BEGIN:VCALENDAR
VERSION:2.0
CALSCALE:GREGORIAN
PRODID:-//Diputació de Barcelona//DibaCMS//EN
BEGIN:VEVENT
UID:5993
DTSTAMP:20260419T203643
DTSTART:20240701T000000
DTEND:20250701T000000
SUMMARY:La ruta de la Tordera i riera d’Arbúcies (Tourdera)
LOCATION:
METHOD:PUBLISH
X-WR-CALNAME:montseny@montseny.cat
X-WR-TIMEZONE:Europe/Madrid
DESCRIPTION:Al Web de la ruta de la Tordera i riera d'Arbúcies trobareu informació d’esdeveniments que tenen lloc als diferents municipis per on passa la ruta. Així, quan planifiqueu la vostra escapada, podeu aprofitar per gaudir d’activitats paral·leles que s’organitzin al municipi on feu la ruta. També pots suscriu-te a la seva Newsletter si vols estar al dia de l’actualitat de la ruta de Tourdera o rebre articles d’actualitat entorn del senderisme, la bicicleta o el cicloturisme. 

URI:https://www.montseny.cat/actualitat/noticies/la-ruta-de-la-tordera-i-riera-darbucies-tourdera.html
CLASS:PUBLIC
END:VEVENT
END:VCALENDAR
