BEGIN:VCALENDAR
VERSION:2.0
CALSCALE:GREGORIAN
PRODID:-//Diputació de Barcelona//DibaCMS//EN
BEGIN:VEVENT
UID:5992
DTSTAMP:20260419T191050
DTSTART:20240625T000000
DTEND:20250625T000000
SUMMARY:Oberta la convocatòria de subvencions a particulars i entitats per al 2025 de la Xarxa de Parcs Naturals
LOCATION:
METHOD:PUBLISH
X-WR-CALNAME:montseny@montseny.cat
X-WR-TIMEZONE:Europe/Madrid
DESCRIPTION:Convocatòria de subvencions per fomentar activitats forestals, agrícoles ramaderes, d'empreses de serveis, de millora dels habitatges i restauració del patrimoni arquitectònic, d'entitats culturals, cíviques i esportives i instal·lacions tèrmiques de biomassa i l'eficiència-estalvi energètic en edificis, any 2025. 

Termini presentació sol·licituds: fins al 30/07/2024

URI:https://www.montseny.cat/actualitat/noticies/oberta-la-convocatoria-de-subvencions-a-particulars-i-entitats-per-al-2025-de-la-xarxa-de-parcs-naturals.html
CLASS:PUBLIC
END:VEVENT
END:VCALENDAR
