BEGIN:VCALENDAR
VERSION:2.0
CALSCALE:GREGORIAN
PRODID:-//Diputació de Barcelona//DibaCMS//EN
BEGIN:VEVENT
UID:5988
DTSTAMP:20260419T203452
DTSTART:20240620T000000
DTEND:20250620T000000
SUMMARY:Viu una revetlla segura!
LOCATION:
METHOD:PUBLISH
X-WR-CALNAME:montseny@montseny.cat
X-WR-TIMEZONE:Europe/Madrid
DESCRIPTION:Amb l’estiu arriben a Catalunya les celebracions de festes populars i tradicionals com les revetlles, amb l’increment de l’ús de material pirotècnic i l’encesa de fogueres. Us transmetem els consells de protecció civil que volen ajudar a minimitzar els riscos que comporta l’ús d’aquest material, riscos davant dels quals són vulnerables tant les persones com el medi natural.

URI:https://www.montseny.cat/actualitat/noticies/viu-una-revetlla-segura.html
CLASS:PUBLIC
END:VEVENT
END:VCALENDAR
