BEGIN:VCALENDAR
VERSION:2.0
CALSCALE:GREGORIAN
PRODID:-//Diputació de Barcelona//DibaCMS//EN
BEGIN:VEVENT
UID:5987
DTSTAMP:20260419T203721
DTSTART:20240619T000000
DTEND:20250619T000000
SUMMARY:Campanya #Ésmotiusuficient per donar suport emocional als joves
LOCATION:
METHOD:PUBLISH
X-WR-CALNAME:montseny@montseny.cat
X-WR-TIMEZONE:Europe/Madrid
DESCRIPTION:Aquesta campanya està vinculada a Obro feel, el xat de suport emocional de la Secretaria d'Infància, Adolescència i Joventut.

URI:https://www.montseny.cat/actualitat/noticies/campanya-esmotiusuficient-per-donar-suport-emocional-als-joves.html
CLASS:PUBLIC
END:VEVENT
END:VCALENDAR
