BEGIN:VCALENDAR
VERSION:2.0
CALSCALE:GREGORIAN
PRODID:-//Diputació de Barcelona//DibaCMS//EN
BEGIN:VEVENT
UID:5984
DTSTAMP:20260419T200756
DTSTART:20240605T000000
DTEND:20240731T000000
SUMMARY:Declaració Institucional de l'FMC amb motiu del Dia Internacional del Medi Ambient
LOCATION:
METHOD:PUBLISH
X-WR-CALNAME:montseny@montseny.cat
X-WR-TIMEZONE:Europe/Madrid
DESCRIPTION:5 de juny, Dia Mundial del Medi Ambient

Aquest any, el Dia Mundial del Medi Ambient dirigirà la mirada del món cap a tres desafiaments greus, encara que sovint passats per alt: la degradació del sòl, la desertificació i la sequera. La nostra prioritat ara ha de ser restaurar els ecosistemes: cuidar els nostres boscos, replantar noves superfícies, rehumidificar els nostres aiguamolls i revitalitzar els nostres sòls.

URI:https://www.montseny.cat/actualitat/noticies/declaracio-institucional-de-lfmc-amb-motiu-del-dia-internacional-del-medi-ambient.html
CLASS:PUBLIC
END:VEVENT
END:VCALENDAR
