BEGIN:VCALENDAR
VERSION:2.0
CALSCALE:GREGORIAN
PRODID:-//Diputació de Barcelona//DibaCMS//EN
BEGIN:VEVENT
UID:5982
DTSTAMP:20260419T183959
DTSTART:20240603T000000
DTEND:20250603T000000
SUMMARY:Dia Mundial de la Presa de Consciència sobre l’Abús i el Maltractament a les Persones Grans
LOCATION:
METHOD:PUBLISH
X-WR-CALNAME:montseny@montseny.cat
X-WR-TIMEZONE:Europe/Madrid
DESCRIPTION:El Dia mundial de la Presa de Consciència de l'Abús i el Maltractament a la Gent Gran és un dia internacional que se celebra cada 15 de juny, amb l'objectiu de crear una consciència social i política per combatre aquesta xacra social inacceptable, que presenta múltiples formes i que es pot prevenir.

URI:https://www.montseny.cat/actualitat/noticies/dia-mundial-de-la-presa-de-consciencia-sobre-labus-i-el-maltractament-a-les-persones-grans.html
CLASS:PUBLIC
END:VEVENT
END:VCALENDAR
