BEGIN:VCALENDAR
VERSION:2.0
CALSCALE:GREGORIAN
PRODID:-//Diputació de Barcelona//DibaCMS//EN
BEGIN:VEVENT
UID:5979
DTSTAMP:20260419T201042
DTSTART:20240527T000000
DTEND:20250527T000000
SUMMARY:8a edició del programa Comerç 21
LOCATION:
METHOD:PUBLISH
X-WR-CALNAME:montseny@montseny.cat
X-WR-TIMEZONE:Europe/Madrid
DESCRIPTION:L’objectiu del programa Comerç 21 és ajudar a 50 microempreses comercials i/o de serveis i parades de mercat de la província de Barcelona a definir i implementar noves estratègies per tal de re-activar cada negoci de forma individual.

Us podeu  inscriure fins el 14 de juny a:  Sessió informativa Comerç 21

URI:https://www.montseny.cat/actualitat/noticies/8a-edicio-del-programa-comerc-21.html
CLASS:PUBLIC
END:VEVENT
END:VCALENDAR
