BEGIN:VCALENDAR
VERSION:2.0
CALSCALE:GREGORIAN
PRODID:-//Diputació de Barcelona//DibaCMS//EN
BEGIN:VEVENT
UID:5970
DTSTAMP:20260419T200933
DTSTART:20240502T000000
DTEND:20250502T000000
SUMMARY:Voleu tenir productes locals de proximitat a la vostra botiga o al vostre restaurant?
LOCATION:
METHOD:PUBLISH
X-WR-CALNAME:montseny@montseny.cat
X-WR-TIMEZONE:Europe/Madrid
DESCRIPTION:Des del Consell Comarcal estan treballant per posar  en marxa una central de distribució de productes locals produïts i/o elaborats al Vallès Oriental.

El projecte preveu la creació d’una central de distribució que permeti a les botigues, restaurants o gran superfícies, poder comprar a través d’una trucada o d’una pàgina web, tot tipus de productes o elaboracions artesanals de qualitat dels productors de la Xarxa Productes de la Terra, fet que us permetria disposar de productes frescos de molta qualitat.

URI:https://www.montseny.cat/actualitat/noticies/voleu-tenir-productes-locals-de-proximitat-a-la-vostra-botiga-o-al-vostre-restaurant.html
CLASS:PUBLIC
END:VEVENT
END:VCALENDAR
