BEGIN:VCALENDAR
VERSION:2.0
CALSCALE:GREGORIAN
PRODID:-//Diputació de Barcelona//DibaCMS//EN
BEGIN:VEVENT
UID:5969
DTSTAMP:20260419T194414
DTSTART:20240502T000000
DTEND:20250502T000000
SUMMARY:Jornada: Temps i clima al Vallès Oriental. Eines per l'adaptació al canvi climàtic del sector agrícola.
LOCATION:
METHOD:PUBLISH
X-WR-CALNAME:montseny@montseny.cat
X-WR-TIMEZONE:Europe/Madrid
DESCRIPTION:El dimarts 7 de maig de les 8.45 h a les 13.30 h, des del Consell Comarcal del Vallès Oriental, juntament amb les entitats que col·laboren, de l’AEMET, el METEOCAT i l’Observatori de l’Ebre, han organitzat una jornada dirigida als pagesos de la comarca. 

URI:https://www.montseny.cat/actualitat/noticies/jornada-temps-i-clima-al-valles-oriental-eines-per-ladaptacio-al-canvi-climatic-del-sector-agricola.html
CLASS:PUBLIC
END:VEVENT
END:VCALENDAR
