BEGIN:VCALENDAR
VERSION:2.0
CALSCALE:GREGORIAN
PRODID:-//Diputació de Barcelona//DibaCMS//EN
BEGIN:VEVENT
UID:5966
DTSTAMP:20260419T193505
DTSTART:20240430T000000
DTEND:20250430T000000
SUMMARY:Tot el que has de saber per les eleccions al Parlament de Catalunya del 12 de maig
LOCATION:
METHOD:PUBLISH
X-WR-CALNAME:montseny@montseny.cat
X-WR-TIMEZONE:Europe/Madrid
DESCRIPTION:El diumenge 12 de maig se celebren les eleccions al Parlament de Catalunya. Dels resultats obtinguts en aquestes eleccions sortiran els 135 diputats i diputades que representaran als ciutadans i ciutadanes al Parlament de Catalunya. Per aquestes eleccions, els col·legis electorals obriran de manera ininterrompuda el 12 de maig de nou del matí a vuit de la tarda.

En el següent enllaç trobareu les qüestions més freqüents sobre les eleccions ( com puc votar? ; Com puc votar des de l'estranger? ; Què he de saber si soc membre de la mesa electoral? ; etc.)   : Inici. Parlament 2024 (gencat.cat)

URI:https://www.montseny.cat/actualitat/noticies/tot-el-que-has-de-saber-per-les-eleccions-al-parlament-de-catalunya-del-12-de-maig.html
CLASS:PUBLIC
END:VEVENT
END:VCALENDAR
