BEGIN:VCALENDAR
VERSION:2.0
CALSCALE:GREGORIAN
PRODID:-//Diputació de Barcelona//DibaCMS//EN
BEGIN:VEVENT
UID:5964
DTSTAMP:20260419T210030
DTSTART:20240430T000000
DTEND:20250430T000000
SUMMARY:Mesures de suport al sector agrari afectat greument per la situació de sequera
LOCATION:
METHOD:PUBLISH
X-WR-CALNAME:montseny@montseny.cat
X-WR-TIMEZONE:Europe/Madrid
DESCRIPTION:S'estableixen mesures extraordinàries i urgents de suport al sector agrari afectat greument per la situació de sequera i s'adopten altres mesures urgents de caràcter econòmic i administratiu

URI:https://www.montseny.cat/actualitat/noticies/mesures-de-suport-al-sector-agrari-afectat-greument-per-la-situacio-de-sequera.html
CLASS:PUBLIC
END:VEVENT
END:VCALENDAR
