BEGIN:VCALENDAR
VERSION:2.0
CALSCALE:GREGORIAN
PRODID:-//Diputació de Barcelona//DibaCMS//EN
BEGIN:VEVENT
UID:5962
DTSTAMP:20260419T193803
DTSTART:20240422T000000
DTEND:20240531T000000
SUMMARY:XXV Setmana Sense Fum
LOCATION:
METHOD:PUBLISH
X-WR-CALNAME:montseny@montseny.cat
X-WR-TIMEZONE:Europe/Madrid
DESCRIPTION:Des del Servei de Salut Pública al Vallès Oriental continuen els preparatius de la SSF2024 (Setmana Sense Fum) i volem conèixer la vostra opinió sobre temes de tabaquisme, seguidament trobareu un enllaç per a poder fer una enquesta :

FORMULARI ENQUESTES: on es pot escollir el idioma català o castellà https://forms.gle/TAKpci4pPtqVQyB16  

URI:https://www.montseny.cat/actualitat/noticies/xxv-setmana-sense-fum.html
CLASS:PUBLIC
END:VEVENT
END:VCALENDAR
