BEGIN:VCALENDAR
VERSION:2.0
CALSCALE:GREGORIAN
PRODID:-//Diputació de Barcelona//DibaCMS//EN
BEGIN:VEVENT
UID:5961
DTSTAMP:20260419T193955
DTSTART:20240419T000000
DTEND:20250419T000000
SUMMARY:Visita institucional del director general dels Serveis Territorials a Barcelona, David Agustí
LOCATION:
METHOD:PUBLISH
X-WR-CALNAME:montseny@montseny.cat
X-WR-TIMEZONE:Europe/Madrid
DESCRIPTION:L'Alcaldessa, el dijous 18 d'abril, es va  reunir amb el director dels Serveis Territorials del Departament de la Presidència de la Generalitat a Barcelona, David Agustí. 

URI:https://www.montseny.cat/actualitat/noticies/visita-institucional-del-director-general-dels-serveis-territorials-a-barcelona-david-agusti.html
CLASS:PUBLIC
END:VEVENT
END:VCALENDAR
