BEGIN:VCALENDAR
VERSION:2.0
CALSCALE:GREGORIAN
PRODID:-//Diputació de Barcelona//DibaCMS//EN
BEGIN:VEVENT
UID:5959
DTSTAMP:20260419T194131
DTSTART:20240418T000000
DTEND:20250418T000000
SUMMARY:El delegat del Govern de la Generalitat a Barcelona, Joan Borràs i Alborch, visita l'Ajuntament de Montseny
LOCATION:
METHOD:PUBLISH
X-WR-CALNAME:montseny@montseny.cat
X-WR-TIMEZONE:Europe/Madrid
DESCRIPTION:El dimarts, 16 d'abril, el delegat del Govern de la Generalitat a Barcelona, Joan Borràs i Alborch, va visitar el municipi de Montseny. 

URI:https://www.montseny.cat/actualitat/noticies/el-delegat-del-govern-de-la-generalitat-a-barcelona-joan-borras-i-alborch-visita-lajuntament-de-montseny.html
CLASS:PUBLIC
END:VEVENT
END:VCALENDAR
