BEGIN:VCALENDAR
VERSION:2.0
CALSCALE:GREGORIAN
PRODID:-//Diputació de Barcelona//DibaCMS//EN
BEGIN:VEVENT
UID:5956
DTSTAMP:20260419T194819
DTSTART:20240417T000000
DTEND:20250417T000000
SUMMARY:Nou decret de mesures per la sequera
LOCATION:
METHOD:PUBLISH
X-WR-CALNAME:montseny@montseny.cat
X-WR-TIMEZONE:Europe/Madrid
DESCRIPTION:El Govern de la Generalitat de Catalunya aprova un Decret llei de mesures urgents per la sequera, que incorpora noves eines acordades amb el món local i els agents econòmics.

URI:https://www.montseny.cat/actualitat/noticies/nou-decret-de-mesures-per-la-sequera.html
CLASS:PUBLIC
END:VEVENT
END:VCALENDAR
