BEGIN:VCALENDAR
VERSION:2.0
CALSCALE:GREGORIAN
PRODID:-//Diputació de Barcelona//DibaCMS//EN
BEGIN:VEVENT
UID:5950
DTSTAMP:20260419T195323
DTSTART:20240403T000000
DTEND:20250403T000000
SUMMARY:Convocatòria d’ajudes a la rehabilitació d’habitatges de propietat privada en entorns rurals 
LOCATION:
METHOD:PUBLISH
X-WR-CALNAME:montseny@montseny.cat
X-WR-TIMEZONE:Europe/Madrid
DESCRIPTION:El departament de Territori ha publicat ja les bases d'una nova convocatòria d’ajudes a la rehabilitació d’habitatges de propietat privada per primera residència situats en entorns rurals.

URI:https://www.montseny.cat/actualitat/noticies/convocatoria-dajudes-a-la-rehabilitacio-dhabitatges-de-propietat-privada-en-entorns-rurals-.html
CLASS:PUBLIC
END:VEVENT
END:VCALENDAR
