BEGIN:VCALENDAR
VERSION:2.0
CALSCALE:GREGORIAN
PRODID:-//Diputació de Barcelona//DibaCMS//EN
BEGIN:VEVENT
UID:5949
DTSTAMP:20260419T210201
DTSTART:20240403T000000
DTEND:20250403T000000
SUMMARY:Es flexibilitzen algunes restriccions en el consum d’aigua d’activitats agrícoles i ramaderes.
LOCATION:
METHOD:PUBLISH
X-WR-CALNAME:montseny@montseny.cat
X-WR-TIMEZONE:Europe/Madrid
DESCRIPTION:La Comissió Interdepartamental de Sequera ha adoptat diverses mesures per flexibilitzar les restriccions en relació amb l'ús de l'aigua en les activitats agrícoles i ramaderes. Aquestes modificacions tenen com a objectiu garantir la supervivència del bestiar, arbres i la viabilitat econòmica de les explotacions, en resposta als compromisos del Govern amb la pagesia.

URI:https://www.montseny.cat/actualitat/noticies/es-flexibilitzen-algunes-restriccions-en-el-consum-daigua-dactivitats-agricoles-i-ramaderes.html
CLASS:PUBLIC
END:VEVENT
END:VCALENDAR
