BEGIN:VCALENDAR
VERSION:2.0
CALSCALE:GREGORIAN
PRODID:-//Diputació de Barcelona//DibaCMS//EN
BEGIN:VEVENT
UID:5948
DTSTAMP:20260419T215752
DTSTART:20240403T000000
DTEND:20250403T000000
SUMMARY:Programa de suport a les dones en els àmbits rural i urbà - OrientaLAB - Dones amb futur
LOCATION:
METHOD:PUBLISH
X-WR-CALNAME:montseny@montseny.cat
X-WR-TIMEZONE:Europe/Madrid
DESCRIPTION:Hi ha previstes 9 jornades que es realitzaran a la sala polivalent del Corral (av. LLuís Companys s/n) de Sant Esteve de Palautodera,  durant el mes d'abril i maig de 2024. 

URI:https://www.montseny.cat/actualitat/noticies/programa-de-suport-a-les-dones-en-els-ambits-rural-i-urba-orientalab-dones-amb-futur.html
CLASS:PUBLIC
END:VEVENT
END:VCALENDAR
