BEGIN:VCALENDAR
VERSION:2.0
CALSCALE:GREGORIAN
PRODID:-//Diputació de Barcelona//DibaCMS//EN
BEGIN:VEVENT
UID:5944
DTSTAMP:20260419T190420
DTSTART:20240320T000000
DTEND:20250320T000000
SUMMARY:6 d’abril: Dia Mundial de l’Activitat Física 2024
LOCATION:
METHOD:PUBLISH
X-WR-CALNAME:montseny@montseny.cat
X-WR-TIMEZONE:Europe/Madrid
DESCRIPTION:"Mou-te, i viu feliç!"

Participa fins el 24 de març i omple l'enquesta poblacional sobre el teu nivell d'activitat física: https://forms.office.com/e/B9R7KZyzEK 

URI:https://www.montseny.cat/actualitat/noticies/6-dabril-dia-mundial-de-lactivitat-fisica-2024.html
CLASS:PUBLIC
END:VEVENT
END:VCALENDAR
