BEGIN:VCALENDAR
VERSION:2.0
CALSCALE:GREGORIAN
PRODID:-//Diputació de Barcelona//DibaCMS//EN
BEGIN:VEVENT
UID:5930
DTSTAMP:20260419T175146
DTSTART:20240219T050000
DTEND:20240430T000000
SUMMARY:Una campanya de phishing  suplanta l’Agència Tributària amb una notificació sobre l’IVA
LOCATION:
METHOD:PUBLISH
X-WR-CALNAME:montseny@montseny.cat
X-WR-TIMEZONE:Europe/Madrid
DESCRIPTION:L’Agència Tributària està patint aquests dies una campanya de pesca de credencials o phishing a través de correus electrònics fraudulents, segons ha informat l’organisme estatal. Es tracta d’una notificació que s’està enviant a empreses, autònoms i empleats i que pretén robar les credencials personals.

URI:https://www.montseny.cat/actualitat/noticies/una-campanya-de-phishing-suplanta-lagencia-tributaria-amb-una-notificacio-sobre-liva.html
CLASS:PUBLIC
END:VEVENT
END:VCALENDAR
