BEGIN:VCALENDAR
VERSION:2.0
CALSCALE:GREGORIAN
PRODID:-//Diputació de Barcelona//DibaCMS//EN
BEGIN:VEVENT
UID:5928
DTSTAMP:20260419T190921
DTSTART:20240219T000000
DTEND:20250222T000000
SUMMARY:S'obre el termini per inscriure's a les proves per a l'obtenció de certificats de català
LOCATION:
METHOD:PUBLISH
X-WR-CALNAME:montseny@montseny.cat
X-WR-TIMEZONE:Europe/Madrid
DESCRIPTION:Ja s'ha publicat la resolució de convocatòria que estableix les dates d'inscripció i de realització de les proves per als certificats dels nivells bàsic (A2), elemental (B1), intermedi (B2), suficiència (C1) i superior (C2).  Les inscripcions es portaran a terme en les dates del 13.02.2024 al 21.02.2024. 

 

URI:https://www.montseny.cat/actualitat/noticies/sobre-el-termini-per-inscriures-a-les-proves-per-a-lobtencio-de-certificats-de-catala.html
CLASS:PUBLIC
END:VEVENT
END:VCALENDAR
