BEGIN:VCALENDAR
VERSION:2.0
CALSCALE:GREGORIAN
PRODID:-//Diputació de Barcelona//DibaCMS//EN
BEGIN:VEVENT
UID:5925
DTSTAMP:20260419T180029
DTSTART:20240208T000000
DTEND:20250207T000000
SUMMARY:Vine al poble de Montseny i descobreix la nova ruta interactiva!
LOCATION:
METHOD:PUBLISH
X-WR-CALNAME:montseny@montseny.cat
X-WR-TIMEZONE:Europe/Madrid
DESCRIPTION:Escaneja els QR que trobaràs a la cartelleria de rutes del municipi i gaudeix d'una ruta per descobrir curiositats. Et proposem dos recorreguts interactius pel nostre municipi on descobriràs els diferents punts d’interès i curiositats. 

T'esperem!

Itinerari turístic per Montseny – Visita Montseny

URI:https://www.montseny.cat/actualitat/noticies/vine-al-poble-de-montseny-i-descobreix-la-nova-ruta-interactiva.html
CLASS:PUBLIC
END:VEVENT
END:VCALENDAR
