BEGIN:VCALENDAR
VERSION:2.0
CALSCALE:GREGORIAN
PRODID:-//Diputació de Barcelona//DibaCMS//EN
BEGIN:VEVENT
UID:5911
DTSTAMP:20260419T190824
DTSTART:20240131T000000
DTEND:20241122T000000
SUMMARY:Executades les obres del projecte de conservació del Camí de la Suïssa
LOCATION:
METHOD:PUBLISH
X-WR-CALNAME:montseny@montseny.cat
X-WR-TIMEZONE:Europe/Madrid
DESCRIPTION:S'han executat les obres del projecte de conservació del camí de la suïssa, actuació subvencionada amb el programa sectorial per millora camins, una subvenció nominativa i un ajut del Programa específic de Resiliència local 2.0 de la Diputació de Barcelona.

URI:https://www.montseny.cat/actualitat/noticies/executades-les-obres-del-projecte-de-conservacio-del-cami-de-la-suissa.html
CLASS:PUBLIC
END:VEVENT
END:VCALENDAR
