BEGIN:VCALENDAR
VERSION:2.0
CALSCALE:GREGORIAN
PRODID:-//Diputació de Barcelona//DibaCMS//EN
BEGIN:VEVENT
UID:5910
DTSTAMP:20260419T213334
DTSTART:20240131T000000
DTEND:20241122T000000
SUMMARY:Actuacions dutes a terme previstes en els plans de prevenció municipal d'incendis forestals ( PPI)
LOCATION:
METHOD:PUBLISH
X-WR-CALNAME:montseny@montseny.cat
X-WR-TIMEZONE:Europe/Madrid
DESCRIPTION:S'han executat les actuacions previstes en els plans de prevenció municipal d'incendis forestals ( PPI 2023), subvencionades mitjançat les concessions del fons de prestació “Prevenció d’incendis forestals: Conservació de la infraestructura estratègica”, en el marc de la convocatòria del Catàleg 2022 del Pla de concertació Xarxa de Governs Locals 2020-2023 de la Diputació de Barcelona. 

URI:https://www.montseny.cat/actualitat/noticies/actuacions-dutes-a-terme-previstes-en-els-plans-de-prevencio-municipal-dincendis-forestals--ppi.html
CLASS:PUBLIC
END:VEVENT
END:VCALENDAR
