BEGIN:VCALENDAR
VERSION:2.0
CALSCALE:GREGORIAN
PRODID:-//Diputació de Barcelona//DibaCMS//EN
BEGIN:VEVENT
UID:5909
DTSTAMP:20260419T184047
DTSTART:20240131T000000
DTEND:20250130T000000
SUMMARY:L'Ajuntament instal·la nous desfibril·ladors públics
LOCATION:
METHOD:PUBLISH
X-WR-CALNAME:montseny@montseny.cat
X-WR-TIMEZONE:Europe/Madrid
DESCRIPTION:S'ha instal·lat un nou desfibril·lador extern semiautomàtic (DEA) a les oficines municipals, subvencionat amb un ajut  del Programa específic de Resiliència local 2.0 de la Diputació de Barcelona. 

URI:https://www.montseny.cat/actualitat/noticies/lajuntament-installa-nous-desfibrilladors-publics.html
CLASS:PUBLIC
END:VEVENT
END:VCALENDAR
