BEGIN:VCALENDAR
VERSION:2.0
CALSCALE:GREGORIAN
PRODID:-//Diputació de Barcelona//DibaCMS//EN
BEGIN:VEVENT
UID:5908
DTSTAMP:20260419T172559
DTSTART:20240130T000000
DTEND:20250129T000000
SUMMARY:Formació en Reanimació Cardiopulmonar, Suport Vital Bàsic i ús del Desfibril·lador
LOCATION:
METHOD:PUBLISH
X-WR-CALNAME:montseny@montseny.cat
X-WR-TIMEZONE:Europe/Madrid
DESCRIPTION:Dia i hora: Dimecres 21 i Dissabte 24 de febrer de 9:00h a 15:00h
Lloc: Sala de Plens de l'Ajuntament de Montseny
Gratuït amb places limitades
Inscripcions: del 30 de gener al 6 de febrer trucant a l'Ajuntament en horari d'oficina ( 93 847 3003) 

URI:https://www.montseny.cat/actualitat/noticies/formacio-en-reanimacio-cardiopulmonar-suport-vital-basic-i-us-del-desfibrillador.html
CLASS:PUBLIC
END:VEVENT
END:VCALENDAR
