BEGIN:VCALENDAR
VERSION:2.0
CALSCALE:GREGORIAN
PRODID:-//Diputació de Barcelona//DibaCMS//EN
BEGIN:VEVENT
UID:5907
DTSTAMP:20260419T213208
DTSTART:20240125T000000
DTEND:20250124T000000
SUMMARY:Ampliem la capacitat de dipòsit del nostre Arxiu Municipal
LOCATION:
METHOD:PUBLISH
X-WR-CALNAME:montseny@montseny.cat
X-WR-TIMEZONE:Europe/Madrid
DESCRIPTION:Les millores a l’edifici de l’Ajuntament han permès instal·lar nous mòduls de prestatgeria a l’Arxiu Municipal. D’aquesta manera augmentem la capacitat amb unes 200 capses. Aquest fet permetrà superar el col·lapse que es venia patint i tractar i instal·lar correctament documentació que fins ara no s’havia pogut treballar. Una bona instal·lació, juntament amb un bon tractament de la documentació en garanteix la preservació, la conservació, la localització i l’accés àgil i ràpid.

L’Arxiu Municipal del Montseny està adherit al Programa de Manteniment de la Xarxa d’Arxius Municipals (XAM) de la Diputació de Barcelona des de 2004

URI:https://www.montseny.cat/actualitat/noticies/ampliem-la-capacitat-de-diposit-del-nostre-arxiu-municipal.html
CLASS:PUBLIC
END:VEVENT
END:VCALENDAR
