BEGIN:VCALENDAR
VERSION:2.0
CALSCALE:GREGORIAN
PRODID:-//Diputació de Barcelona//DibaCMS//EN
BEGIN:VEVENT
UID:5906
DTSTAMP:20260419T171929
DTSTART:20240119T000000
DTEND:20250131T000000
SUMMARY:Informació relativa a l’exercici del control intern de les corporacions locals, exercicis 2019- 2021.
LOCATION:
METHOD:PUBLISH
X-WR-CALNAME:montseny@montseny.cat
X-WR-TIMEZONE:Europe/Madrid
DESCRIPTION:
URI:https://www.montseny.cat/actualitat/noticies/informacio-relativa-a-lexercici-del-control-intern-de-les-corporacions-locals-exercicis-2019-2021.html
CLASS:PUBLIC
END:VEVENT
END:VCALENDAR
