BEGIN:VCALENDAR
VERSION:2.0
CALSCALE:GREGORIAN
PRODID:-//Diputació de Barcelona//DibaCMS//EN
BEGIN:VEVENT
UID:5904
DTSTAMP:20260419T172129
DTSTART:20240115T000000
DTEND:20240430T000000
SUMMARY:TV3 i la resta de canals de 3Cat passaran a emetre únicament en HD a partir de dimarts 16 de gener
LOCATION:
METHOD:PUBLISH
X-WR-CALNAME:montseny@montseny.cat
X-WR-TIMEZONE:Europe/Madrid
DESCRIPTION:A partir del 16 de gener de 2024 la Corporació Catalana de Mitjans Audiovisuals emetrà tots els seus programes en HD. Actualment, ja està emetent TV3 en alta definició a part d’en definició estàndard, però a partir de la segona quinzena de gener se sumaran a l’alta definició tots els programes dels canals temàtics 3/24, Esports3 i SX3/33

URI:https://www.montseny.cat/actualitat/noticies/tv3-i-la-resta-de-canals-de-3cat-passaran-a-emetre-unicament-en-hd-a-partir-de-dimarts-16-de-gener.html
CLASS:PUBLIC
END:VEVENT
END:VCALENDAR
