BEGIN:VCALENDAR
VERSION:2.0
CALSCALE:GREGORIAN
PRODID:-//Diputació de Barcelona//DibaCMS//EN
BEGIN:VEVENT
UID:5900
DTSTAMP:20260419T171036
DTSTART:20240110T000000
DTEND:20250109T000000
SUMMARY:Projecte NISC
LOCATION:
METHOD:PUBLISH
X-WR-CALNAME:montseny@montseny.cat
X-WR-TIMEZONE:Europe/Madrid
DESCRIPTION:Des de la Universitat Autònoma de Barcelona estan oferint un curs per a famílies per ajudar a mares i pares a:

- Millorar el desenvolupament, l'aprenentatge i el benestar emocional de les seves filles i fills

- Potenciar la qualitat de la interacció i la mentalització

- Reduir l'estrès i augmentar el sentiment d'eficàcia en la criança

URI:https://www.montseny.cat/actualitat/noticies/projecte-nisc.html
CLASS:PUBLIC
END:VEVENT
END:VCALENDAR
