BEGIN:VCALENDAR
VERSION:2.0
CALSCALE:GREGORIAN
PRODID:-//Diputació de Barcelona//DibaCMS//EN
BEGIN:VEVENT
UID:5889
DTSTAMP:20260419T172053
DTSTART:20231213T000000
DTEND:20241212T000000
SUMMARY:Servei online de canvi de domicili fiscal d'un vehicle 
LOCATION:
METHOD:PUBLISH
X-WR-CALNAME:montseny@montseny.cat
X-WR-TIMEZONE:Europe/Madrid
DESCRIPTION:Des de la Direcció General de Trànsit ens informen que ja està disponible a la seva Seu Electrònica el servei online de canvi de domicili fiscal d'un vehicle,  perquè aquelles persones que passin a residir en un altre municipi puguin notificar directament a Trànsit aquest canvi i passar a pagar l'Impost de Vehicles de Tracció Mecànica en el mateix.

URI:https://www.montseny.cat/actualitat/noticies/servei-online-de-canvi-de-domicili-fiscal-dun-vehicle-.html
CLASS:PUBLIC
END:VEVENT
END:VCALENDAR
