BEGIN:VCALENDAR
VERSION:2.0
CALSCALE:GREGORIAN
PRODID:-//Diputació de Barcelona//DibaCMS//EN
BEGIN:VEVENT
UID:5888
DTSTAMP:20260419T184010
DTSTART:20231213T000000
DTEND:20241212T000000
SUMMARY:Al febrer del 2024 arriba la TDT a Alta Definició : com adaptar-s'hi?
LOCATION:
METHOD:PUBLISH
X-WR-CALNAME:montseny@montseny.cat
X-WR-TIMEZONE:Europe/Madrid
DESCRIPTION:En pocs mesos, la TDT serà transmesa únicament en HD, la qual cosa significa més qualitat d'imatge i so, dient adéu als canals en qualitat estàndard (SD). Per això, aquells ciutadans que encara no compten amb un televisor o receptor compatible amb HD hauran de renovar els seus equips si volen continuar veient els canals de la TDT.

URI:https://www.montseny.cat/actualitat/noticies/al-febrer-del-2024-arriba-la-tdt-a-alta-definicio--com-adaptar-shi.html
CLASS:PUBLIC
END:VEVENT
END:VCALENDAR
