BEGIN:VCALENDAR
VERSION:2.0
CALSCALE:GREGORIAN
PRODID:-//Diputació de Barcelona//DibaCMS//EN
BEGIN:VEVENT
UID:587
DTSTAMP:20260419T142102
DTSTART:20210907T000000
DTEND:20210912T150000
SUMMARY:Actes commemoratius de la Diada Nacional de Catalunya a Montseny
LOCATION:
METHOD:PUBLISH
X-WR-CALNAME:montseny@montseny.cat
X-WR-TIMEZONE:Europe/Madrid
DESCRIPTION:Dissabte 11 de setembre a les 11:00h.  a la Plaça de la Vila, Ofrena floral, Parlaments i el Cant dels Segadors.

Us hi esperem!

Organitza: Ajuntament de Montseny
Col·labora: Òmnium Cultural

URI:https://www.montseny.cat/actualitat/noticies/actes-commemoratius-de-la-diada-nacional-de-catalunya-a-montseny.html
CLASS:PUBLIC
END:VEVENT
END:VCALENDAR
