BEGIN:VCALENDAR
VERSION:2.0
CALSCALE:GREGORIAN
PRODID:-//Diputació de Barcelona//DibaCMS//EN
BEGIN:VEVENT
UID:5853
DTSTAMP:20260419T184925
DTSTART:20231026T000000
DTEND:20241025T000000
SUMMARY:Instal·lació comptadors abastament en alta als dipòsits de la xarxa municipal d'aigua de Montseny
LOCATION:
METHOD:PUBLISH
X-WR-CALNAME:montseny@montseny.cat
X-WR-TIMEZONE:Europe/Madrid
DESCRIPTION:Ja s'han instal·lat els comptadors en alta als dipòsit de la xarxa municipal d'aigua, aquesta actuació està subvencionada amb el 90% de la base liquidable per l'Agencia Catalana de l'Aigua, subvenció atorgada per a la realització d’inversions per a la millora del control dels cabals subministrats en alta.  El cost de l'actuació és de 4.044,57€ i la subvenció és de 3.639,60€ .

URI:https://www.montseny.cat/actualitat/noticies/installacio-comptadors-abastament-en-alta-als-diposits-de-la-xarxa-municipal-daigua-de-montseny.html
CLASS:PUBLIC
END:VEVENT
END:VCALENDAR
