BEGIN:VCALENDAR
VERSION:2.0
CALSCALE:GREGORIAN
PRODID:-//Diputació de Barcelona//DibaCMS//EN
BEGIN:VEVENT
UID:5850
DTSTAMP:20260419T200904
DTSTART:20250210T000000
DTEND:20250331T000000
SUMMARY:Nova edició del CINC (Cinema Infantil en Català) a Granollers i Sant Celoni
LOCATION:
METHOD:PUBLISH
X-WR-CALNAME:montseny@montseny.cat
X-WR-TIMEZONE:Europe/Madrid
DESCRIPTION:Properament començarà una nova edició del CINC (Cinema Infantil en Català) a Granollers i Sant Celoni.  

URI:https://www.montseny.cat/actualitat/noticies/nova-edicio-del-cinc-cinema-infantil-en-catala-a-granollers-i-sant-celoni.html
CLASS:PUBLIC
END:VEVENT
END:VCALENDAR
