BEGIN:VCALENDAR
VERSION:2.0
CALSCALE:GREGORIAN
PRODID:-//Diputació de Barcelona//DibaCMS//EN
BEGIN:VEVENT
UID:5849
DTSTAMP:20260419T185437
DTSTART:20231023T000000
DTEND:20231231T000000
SUMMARY:Càsting  llargmetratge de ficció - Tanit
LOCATION:
METHOD:PUBLISH
X-WR-CALNAME:montseny@montseny.cat
X-WR-TIMEZONE:Europe/Madrid
DESCRIPTION:Atiende Films està desenvolupant la pel·lícula Tanit una adaptació de la novel·la del Vaixell de Vapor de Núria Albó que es rodarà pels boscos del Montseny. Just han iniciat la fase de càsting i estan intentant arribar al màxim de públic, concretament famílies de la zona del Montseny, per si hi ha algú interessat en participar-hi. 

URI:https://www.montseny.cat/actualitat/noticies/casting-llargmetratge-de-ficcio-tanit.html
CLASS:PUBLIC
END:VEVENT
END:VCALENDAR
