BEGIN:VCALENDAR
VERSION:2.0
CALSCALE:GREGORIAN
PRODID:-//Diputació de Barcelona//DibaCMS//EN
BEGIN:VEVENT
UID:5844
DTSTAMP:20260419T163134
DTSTART:20231012T000000
DTEND:20241011T000000
SUMMARY:Transport públic integrat Bus Parc del Montseny
LOCATION:
METHOD:PUBLISH
X-WR-CALNAME:montseny@montseny.cat
X-WR-TIMEZONE:Europe/Madrid
DESCRIPTION:Vine al Parc Natural del Montseny amb transport públic integrat, bitllet combinat RENFE més Bus Parc, els dissabtes, diumenges i festius de tot l'any (excepte Nadal i Cap d'Any).

 

URI:https://www.montseny.cat/actualitat/noticies/transport-public-integrat-bus-parc-del-montseny.html
CLASS:PUBLIC
END:VEVENT
END:VCALENDAR
