BEGIN:VCALENDAR
VERSION:2.0
CALSCALE:GREGORIAN
PRODID:-//Diputació de Barcelona//DibaCMS//EN
BEGIN:VEVENT
UID:5838
DTSTAMP:20260419T203755
DTSTART:20230928T090000
DTEND:20230930T000000
SUMMARY:Alerta de productes cosmètics, productes de cura personal i biocides
LOCATION:
METHOD:PUBLISH
X-WR-CALNAME:montseny@montseny.cat
X-WR-TIMEZONE:Europe/Madrid
DESCRIPTION:Us fem arribar una alerta sobre productes cosmètics, productes de cura personal i/o biocides relacionades amb els productes:


	MARTINELIA UNICORN ARE REAL ESTUCHE DE MAQUILLAJE 


Aquestes alertes fan referència als riscos que pot suposar l'ús dels productes implicats per a la salut dels consumidors.

URI:https://www.montseny.cat/actualitat/noticies/5838-alerta-de-productes-cosmetics-productes-de-cura-personal-i-biocides.html
CLASS:PUBLIC
END:VEVENT
END:VCALENDAR
