BEGIN:VCALENDAR
VERSION:2.0
CALSCALE:GREGORIAN
PRODID:-//Diputació de Barcelona//DibaCMS//EN
BEGIN:VEVENT
UID:5835
DTSTAMP:20260419T160959
DTSTART:20230920T000000
DTEND:20230924T000000
SUMMARY:S’organitzen noves matinals de neteja al Parc Natural del Montseny
LOCATION:
METHOD:PUBLISH
X-WR-CALNAME:montseny@montseny.cat
X-WR-TIMEZONE:Europe/Madrid
DESCRIPTION:Després de l’èxit de l’anterior edició, on es van recollir prop de 50 quilos de deixalles, Turisme Montseny organitza novament unes matinals de neteja a les ribes d’alguns rius de l’espai. L’objectiu és fer una neteja d’aquests espais, que sovint pateixen l’arribada massiva de visitants que sovint suposa un increment de residus.

URI:https://www.montseny.cat/actualitat/noticies/sorganitzen-noves-matinals-de-neteja-al-parc-natural-del-montseny.html
CLASS:PUBLIC
END:VEVENT
END:VCALENDAR
