BEGIN:VCALENDAR
VERSION:2.0
CALSCALE:GREGORIAN
PRODID:-//Diputació de Barcelona//DibaCMS//EN
BEGIN:VEVENT
UID:5828
DTSTAMP:20260419T173000
DTSTART:20230831T000000
DTEND:20240830T000000
SUMMARY:Cursos de català 
LOCATION:
METHOD:PUBLISH
X-WR-CALNAME:montseny@montseny.cat
X-WR-TIMEZONE:Europe/Madrid
DESCRIPTION:El CPNL ofereix cursos generals de català de tots els nivells a majors de 18 anys, o bé a persones de 16-17 anys que no hagin fet l'escolarització obligatòria a Catalunya.

Propera inscripció: 12 - 15 de setembre.

URI:https://www.montseny.cat/actualitat/noticies/cursos-de-catala-.html
CLASS:PUBLIC
END:VEVENT
END:VCALENDAR
