BEGIN:VCALENDAR
VERSION:2.0
CALSCALE:GREGORIAN
PRODID:-//Diputació de Barcelona//DibaCMS//EN
BEGIN:VEVENT
UID:5827
DTSTAMP:20260419T175023
DTSTART:20230831T000000
DTEND:20240831T000000
SUMMARY:Actuacions a executar amb els ajuts a la  gestió forestal sostenible 2022  destinats a la prevenció d’incendis forestals i restauració del potencial forestal.
LOCATION:
METHOD:PUBLISH
X-WR-CALNAME:montseny@montseny.cat
X-WR-TIMEZONE:Europe/Madrid
DESCRIPTION:Aquesta setmana han començat a executar les actuacions per a Prevenció d'incendis forestals i restauració del potencial forestal ( Ajuts a la gestió Forestal 2022- Fons procedents de la Departament d’Acció Climàtica, Alimentació i Agenda Rural (DAAC) i del Fons Europeu Agrícola i Desenvolupament Rural (FEADER).

URI:https://www.montseny.cat/actualitat/noticies/actuacions-a-executar-amb-els-ajuts-a-la-gestio-forestal-sostenible-2022-destinats-a-la-prevencio-dincendis-forestals-i-restauracio-del-potencial-forestal.html
CLASS:PUBLIC
END:VEVENT
END:VCALENDAR
