BEGIN:VCALENDAR
VERSION:2.0
CALSCALE:GREGORIAN
PRODID:-//Diputació de Barcelona//DibaCMS//EN
BEGIN:VEVENT
UID:5821
DTSTAMP:20260419T190409
DTSTART:20230724T000000
DTEND:20231130T000000
SUMMARY:Resultat Eleccions Generals 2023
LOCATION:
METHOD:PUBLISH
X-WR-CALNAME:montseny@montseny.cat
X-WR-TIMEZONE:Europe/Madrid
DESCRIPTION:Acta d'escrutini del Congrés

Acta d'escrutini del Senat 

URI:https://www.montseny.cat/actualitat/noticies/resultat-eleccions-generals-2023.html
CLASS:PUBLIC
END:VEVENT
END:VCALENDAR
