BEGIN:VCALENDAR
VERSION:2.0
CALSCALE:GREGORIAN
PRODID:-//Diputació de Barcelona//DibaCMS//EN
BEGIN:VEVENT
UID:5820
DTSTAMP:20260419T203917
DTSTART:20240808T050000
DTEND:20240831T000000
SUMMARY:Programa de Festa Major Montseny 2024
LOCATION:
METHOD:PUBLISH
X-WR-CALNAME:montseny@montseny.cat
X-WR-TIMEZONE:Europe/Madrid
DESCRIPTION:La Festa Major de Montseny 2024 està a punt d'arribar. Us presentem el programa d'activitats d'aquest any.

URI:https://www.montseny.cat/actualitat/noticies/programa-de-festa-major-montseny-2024.html
CLASS:PUBLIC
END:VEVENT
END:VCALENDAR
