BEGIN:VCALENDAR
VERSION:2.0
CALSCALE:GREGORIAN
PRODID:-//Diputació de Barcelona//DibaCMS//EN
BEGIN:VEVENT
UID:580
DTSTAMP:20260421T104412
DTSTART:20210628T080000
DTEND:20210930T000000
SUMMARY:BAN municipal en relació al consum racional de l'aigua.
LOCATION:
METHOD:PUBLISH
X-WR-CALNAME:montseny@montseny.cat
X-WR-TIMEZONE:Europe/Madrid
DESCRIPTION:L’Ajuntament de Montseny  ha emès un Ban Municipal  en relació al consum d'aigua, degut a la manca de precipitacions durant aquest any i a l’increment del consum d’aigua potable, els dipòsits municipals que abasteixen a la població, es troben en nivells baixos. 

BAN

URI:https://www.montseny.cat/actualitat/noticies/ban-municipalen-relacio-al-consum-racional-de-laigua.html
CLASS:PUBLIC
END:VEVENT
END:VCALENDAR
