BEGIN:VCALENDAR
VERSION:2.0
CALSCALE:GREGORIAN
PRODID:-//Diputació de Barcelona//DibaCMS//EN
BEGIN:VEVENT
UID:5799
DTSTAMP:20260419T185401
DTSTART:20240506T000000
DTEND:20241231T000000
SUMMARY:Butlletí Jove -  Oficina Jove del Vallès Oriental
LOCATION:
METHOD:PUBLISH
X-WR-CALNAME:montseny@montseny.cat
X-WR-TIMEZONE:Europe/Madrid
DESCRIPTION:Des de l’Oficina Jove del Vallès Oriental, ens fan arribar el Butlletí Jove, on trobareu informació d’interès juvenil en els àmbits de l’educació, el treball, la mobilitat internacional i l’habitatge, entre d’altres! 

 

URI:https://www.montseny.cat/actualitat/noticies/butlleti-jove-oficina-jove-del-valles-oriental.html
CLASS:PUBLIC
END:VEVENT
END:VCALENDAR
