BEGIN:VCALENDAR
VERSION:2.0
CALSCALE:GREGORIAN
PRODID:-//Diputació de Barcelona//DibaCMS//EN
BEGIN:VEVENT
UID:5794
DTSTAMP:20260419T201656
DTSTART:20230621T000000
DTEND:20230630T000000
SUMMARY:Revetlles amb precaució 2023
LOCATION:
METHOD:PUBLISH
X-WR-CALNAME:montseny@montseny.cat
X-WR-TIMEZONE:Europe/Madrid
DESCRIPTION:L'arribada de l'estiu ve acompanyada de la celebració de diverses festes populars arreu de Catalunya, com ara les revetlles de Sant Joan i de Sant Pere. El foc, els petards i la coca de crema i pinyons són elements tradicionals per al gaudi de petits i grans, però comporten alguns riscos que cal prevenir, com ara lesions o intoxicacions.  

Recordeu que queda totalment prohibit l’ús de pirotècnica, encesa de fogueres i llançament de coets en tot el terme municipal de Montseny, d'acord amb BAN municipal publicat. 

URI:https://www.montseny.cat/actualitat/noticies/revetlles-amb-precaucio-2023.html
CLASS:PUBLIC
END:VEVENT
END:VCALENDAR
