BEGIN:VCALENDAR
VERSION:2.0
CALSCALE:GREGORIAN
PRODID:-//Diputació de Barcelona//DibaCMS//EN
BEGIN:VEVENT
UID:5793
DTSTAMP:20260419T143939
DTSTART:20230619T090000
DTEND:20230930T220000
SUMMARY:BAN municipal revetlles 2023
LOCATION:
METHOD:PUBLISH
X-WR-CALNAME:montseny@montseny.cat
X-WR-TIMEZONE:Europe/Madrid
DESCRIPTION:BAN per la prohibició d’ús de pirotècnica, encesa de fogueres i llançament de coets en tot el terme municipal de Montseny.

BAN 

URI:https://www.montseny.cat/actualitat/noticies/ban-municipal-revetlles-2023.html
CLASS:PUBLIC
END:VEVENT
END:VCALENDAR
