BEGIN:VCALENDAR
VERSION:2.0
CALSCALE:GREGORIAN
PRODID:-//Diputació de Barcelona//DibaCMS//EN
BEGIN:VEVENT
UID:5784
DTSTAMP:20260419T145539
DTSTART:20230608T000000
DTEND:20240607T000000
SUMMARY:Ajudes de matrícula per a persones residents en zones rurals
LOCATION:
METHOD:PUBLISH
X-WR-CALNAME:montseny@montseny.cat
X-WR-TIMEZONE:Europe/Madrid
DESCRIPTION:La Universitat Oberta de Catalunya (UOC) convoca 100 beques per a persones que resideixen en entorns rurals. Les beques cobreixen el 30% de l'import de la matrícula de qualsevol programa formatiu de la UOC pel curs acadèmic 2023-2024 i el termini per sol·licitar-les finalitza el 26 de juny.

URI:https://www.montseny.cat/actualitat/noticies/ajudes-de-matricula-per-a-persones-residents-en-zones-rurals.html
CLASS:PUBLIC
END:VEVENT
END:VCALENDAR
