BEGIN:VCALENDAR
VERSION:2.0
CALSCALE:GREGORIAN
PRODID:-//Diputació de Barcelona//DibaCMS//EN
BEGIN:VEVENT
UID:5783
DTSTAMP:20260419T173622
DTSTART:20230604T000000
DTEND:20240603T000000
SUMMARY:Vigilància de les arbovirosis
LOCATION:
METHOD:PUBLISH
X-WR-CALNAME:montseny@montseny.cat
X-WR-TIMEZONE:Europe/Madrid
DESCRIPTION:Les arbovirosis són malalties infeccioses causades per arbovirus. Els arbovirus són un grup heterogeni de més de 500 virus amb una característica comuna: són transmesos per artròpodes (animals invertebrats com els insectes o els aràcnids). Tot i que la majoria d’aquests virus afecten animals vertebrats com aus i mamífers, n’hi ha 150 que poden causar malalties en l’home.

URI:https://www.montseny.cat/actualitat/noticies/vigilancia-de-les-arbovirosis.html
CLASS:PUBLIC
END:VEVENT
END:VCALENDAR
