BEGIN:VCALENDAR
VERSION:2.0
CALSCALE:GREGORIAN
PRODID:-//Diputació de Barcelona//DibaCMS//EN
BEGIN:VEVENT
UID:5780
DTSTAMP:20260419T160420
DTSTART:20230531T000000
DTEND:20240530T000000
SUMMARY:Calendari escolar del curs 2023-2024 per als centres educatius no universitaris de Catalunya
LOCATION:
METHOD:PUBLISH
X-WR-CALNAME:montseny@montseny.cat
X-WR-TIMEZONE:Europe/Madrid
DESCRIPTION:Publicat el calendari escolar del curs 2023-24, que marca l’inici de les classes el 6 de setembre.

URI:https://www.montseny.cat/actualitat/noticies/calendari-escolar-del-curs-2023-2024-per-als-centres-educatius-no-universitaris-de-catalunya.html
CLASS:PUBLIC
END:VEVENT
END:VCALENDAR
